BEGIN:VCALENDAR
VERSION:2.0
PRODID:-//Leonor García Zato - ECPv6.15.20//NONSGML v1.0//EN
CALSCALE:GREGORIAN
METHOD:PUBLISH
X-ORIGINAL-URL:https://leonorgarciazato.com
X-WR-CALDESC:Eventos para Leonor García Zato
REFRESH-INTERVAL;VALUE=DURATION:PT1H
X-Robots-Tag:noindex
X-PUBLISHED-TTL:PT1H
BEGIN:VTIMEZONE
TZID:Europe/Madrid
BEGIN:DAYLIGHT
TZOFFSETFROM:+0100
TZOFFSETTO:+0200
TZNAME:CEST
DTSTART:20220327T010000
END:DAYLIGHT
BEGIN:STANDARD
TZOFFSETFROM:+0200
TZOFFSETTO:+0100
TZNAME:CET
DTSTART:20221030T010000
END:STANDARD
BEGIN:DAYLIGHT
TZOFFSETFROM:+0100
TZOFFSETTO:+0200
TZNAME:CEST
DTSTART:20230326T010000
END:DAYLIGHT
BEGIN:STANDARD
TZOFFSETFROM:+0200
TZOFFSETTO:+0100
TZNAME:CET
DTSTART:20231029T010000
END:STANDARD
BEGIN:DAYLIGHT
TZOFFSETFROM:+0100
TZOFFSETTO:+0200
TZNAME:CEST
DTSTART:20240331T010000
END:DAYLIGHT
BEGIN:STANDARD
TZOFFSETFROM:+0200
TZOFFSETTO:+0100
TZNAME:CET
DTSTART:20241027T010000
END:STANDARD
END:VTIMEZONE
BEGIN:VEVENT
DTSTART;TZID=Europe/Madrid:20230728T160000
DTEND;TZID=Europe/Madrid:20230730T160000
DTSTAMP:20260420T141939
CREATED:20230605T090619Z
LAST-MODIFIED:20230605T090706Z
UID:4375-1690560000-1690732800@leonorgarciazato.com
SUMMARY:FESTIVAL UNIOM EN ARCHIDONA\, VIBRA Y OBSERVA TU PRESENCIA
DESCRIPTION:FESTIVAL UNIOM EN ARCHIDONA\, VIBRA Y OBSERVA TU PRESENCIA \nSentirás como otros ojos te miran\, atrévete a verlo de frente. \nSiente el cielo\, siente el agua\, siente el sol\, da solidez a cada paso\, respira paz y sostén consciente tu presencia. Estamos hechos de días de verano. \nAbraza tu vuelo en mente\, cuerpo y espíritu. \nEl Festival más famoso en España con 11 profesores y 11 actividades diferentes. \nYoga en diversas disciplinas\, Tantra\, sonoterapia\, Biodanza\, terapias con afinaciones Tama do. PCI y  mucho más… \nEl recinto tiene piscina y un maravilloso entorno donde disfrutaremos de paseos conscientes por la montaña entre los árboles. \nCuidaremos también el placer de la alimentación con la deliciosa comida vegana y vegetariana con Sol Centeno\, Chef bioenergética. \nFECHAS: del viernes 28 de julio a las 16:00 h. al domingo 30 de julio a las 16:00 h. \nPRECIOS  \nPrecio 240 €\, incluye alojamiento en albergue con literas con pensión completa \nPrecio 220€ Si duermes en tu furgo\, caravana o tienda de campaña \nDESCUENTOS \nDescuento de 50€  para quienes reserven antes del 15 de junio \nDescuento adicional para quienes ya hayan participado en alguno de los festivales UNI 🤍 OM \nRESERVAS biodanzaconsol@gmail.com
URL:https://leonorgarciazato.com/evento/festivas-uniom-en-archidona-vibra-y-observa-tu-presencia/
CATEGORIES:Biodanza,Crecimiento personal
ATTACH;FMTTYPE=image/jpeg:https://leonorgarciazato.com/wp-content/uploads/2023/06/festival-archidona.jpg
END:VEVENT
END:VCALENDAR